Package: TargetDecoy Version: 1.14.0 Command: /home/biocbuild/R/R/bin/R CMD build --keep-empty-dirs --no-resave-data TargetDecoy StartedAt: 2025-10-14 05:18:39 -0000 (Tue, 14 Oct 2025) EndedAt: 2025-10-14 05:19:38 -0000 (Tue, 14 Oct 2025) EllapsedTime: 59.1 seconds RetCode: 0 Status: OK PackageFile: TargetDecoy_1.14.0.tar.gz PackageFileSize: 4.052 MiB