Package: TargetDecoy Version: 1.16.0 Maintainer: Elke Debrie MaintainerEmail: elkedebrie at gmail.com git_url: https://git.bioconductor.org/packages/TargetDecoy git_branch: RELEASE_3_22 git_last_commit: 612ab7d git_last_commit_date: 2025-10-29 11:13:35 -0400 (Wed, 29 Oct 2025)