Package: TTMap Version: 1.32.0 Command: /home/biocbuild/R/R/bin/R CMD INSTALL TTMap StartedAt: 2025-11-13 21:30:18 -0000 (Thu, 13 Nov 2025) EndedAt: 2025-11-13 21:30:48 -0000 (Thu, 13 Nov 2025) EllapsedTime: 29.6 seconds RetCode: 0 Status: OK