Package: TTMap Version: 1.32.0 Command: /home/biocbuild/bbs-3.22-bioc/R/bin/R CMD INSTALL TTMap StartedAt: 2025-11-11 15:27:13 -0500 (Tue, 11 Nov 2025) EndedAt: 2025-11-11 15:27:35 -0500 (Tue, 11 Nov 2025) EllapsedTime: 21.7 seconds RetCode: 0 Status: OK