Package: TTMap Version: 1.30.0 Command: /Library/Frameworks/R.framework/Resources/bin/R CMD INSTALL TTMap StartedAt: 2025-10-13 15:41:45 -0400 (Mon, 13 Oct 2025) EndedAt: 2025-10-13 15:42:33 -0400 (Mon, 13 Oct 2025) EllapsedTime: 47.6 seconds RetCode: 0 Status: OK