Package: TSCAN Version: 1.48.0 Command: /home/biocbuild/bbs-3.22-bioc/R/bin/R CMD build --keep-empty-dirs --no-resave-data --md5 TSCAN StartedAt: 2025-11-11 20:46:09 -0500 (Tue, 11 Nov 2025) EndedAt: 2025-11-11 20:46:52 -0500 (Tue, 11 Nov 2025) EllapsedTime: 43.0 seconds RetCode: 0 Status: OK PackageFile: TSCAN_1.48.0.tar.gz PackageFileSize: 2.68 MiB