Package: TSCAN Version: 1.48.0 Command: /Library/Frameworks/R.framework/Resources/bin/R CMD INSTALL TSCAN StartedAt: 2025-11-10 15:19:59 -0500 (Mon, 10 Nov 2025) EndedAt: 2025-11-10 15:20:10 -0500 (Mon, 10 Nov 2025) EllapsedTime: 11.0 seconds RetCode: 0 Status: OK