Package: TSCAN Version: 1.48.0 Command: rm -rf TSCAN.buildbin-libdir && mkdir TSCAN.buildbin-libdir && /Users/biocbuild/BBS/utils/build-universal.sh TSCAN_1.48.0.tar.gz /Library/Frameworks/R.framework/Resources/bin/R TSCAN.buildbin-libdir StartedAt: 2025-11-10 23:40:19 -0500 (Mon, 10 Nov 2025) EndedAt: 2025-11-10 23:40:32 -0500 (Mon, 10 Nov 2025) EllapsedTime: 12.3 seconds RetCode: 0 Status: OK PackageFile: TSCAN_1.48.0.tgz PackageFileSize: 2.764 MiB