Package: TSAR Version: 1.8.0 Command: /home/biocbuild/bbs-3.22-bioc/R/bin/R CMD INSTALL TSAR StartedAt: 2025-11-11 15:13:55 -0500 (Tue, 11 Nov 2025) EndedAt: 2025-11-11 15:14:07 -0500 (Tue, 11 Nov 2025) EllapsedTime: 11.1 seconds RetCode: 0 Status: OK