Package: TSAR Version: 1.8.0 Command: /Library/Frameworks/R.framework/Resources/bin/R CMD build --keep-empty-dirs --no-resave-data TSAR StartedAt: 2025-11-10 18:04:14 -0500 (Mon, 10 Nov 2025) EndedAt: 2025-11-10 18:04:58 -0500 (Mon, 10 Nov 2025) EllapsedTime: 43.5 seconds RetCode: 0 Status: OK PackageFile: TSAR_1.8.0.tar.gz PackageFileSize: 4.047 MiB