Package: TSAR Version: 1.8.0 Command: rm -rf TSAR.buildbin-libdir && mkdir TSAR.buildbin-libdir && /Users/biocbuild/BBS/utils/build-universal.sh TSAR_1.8.0.tar.gz /Library/Frameworks/R.framework/Resources/bin/R TSAR.buildbin-libdir StartedAt: 2025-11-10 23:40:18 -0500 (Mon, 10 Nov 2025) EndedAt: 2025-11-10 23:40:24 -0500 (Mon, 10 Nov 2025) EllapsedTime: 6.1 seconds RetCode: 0 Status: OK PackageFile: TSAR_1.8.0.tgz PackageFileSize: 3.983 MiB