Package: TRONCO Version: 2.42.0 Command: /home/biocbuild/bbs-3.22-bioc/R/bin/R CMD INSTALL TRONCO StartedAt: 2025-11-03 16:00:28 -0500 (Mon, 03 Nov 2025) EndedAt: 2025-11-03 16:00:40 -0500 (Mon, 03 Nov 2025) EllapsedTime: 12.2 seconds RetCode: 0 Status: OK