Package: TRONCO Version: 2.42.0 Command: /home/biocbuild/bbs-3.22-bioc/R/bin/R CMD build --keep-empty-dirs --no-resave-data --md5 TRONCO StartedAt: 2025-11-03 20:40:38 -0500 (Mon, 03 Nov 2025) EndedAt: 2025-11-03 20:41:40 -0500 (Mon, 03 Nov 2025) EllapsedTime: 62.1 seconds RetCode: 0 Status: OK PackageFile: TRONCO_2.42.0.tar.gz PackageFileSize: 4.25 MiB