Package: TRESS Version: 1.16.0 Command: /home/biocbuild/bbs-3.22-bioc/R/bin/R CMD INSTALL TRESS StartedAt: 2025-11-13 15:39:48 -0500 (Thu, 13 Nov 2025) EndedAt: 2025-11-13 15:40:23 -0500 (Thu, 13 Nov 2025) EllapsedTime: 35.5 seconds RetCode: 0 Status: OK