Package: TRESS Version: 1.14.0 Command: /home/biocbuild/bbs-3.21-bioc/R/bin/R CMD INSTALL TRESS StartedAt: 2025-10-15 15:38:13 -0400 (Wed, 15 Oct 2025) EndedAt: 2025-10-15 15:38:47 -0400 (Wed, 15 Oct 2025) EllapsedTime: 34.5 seconds RetCode: 0 Status: OK