Package: TRESS Version: 1.14.0 Command: /home/biocbuild/R/R/bin/R CMD INSTALL TRESS StartedAt: 2025-10-02 20:53:13 -0000 (Thu, 02 Oct 2025) EndedAt: 2025-10-02 20:54:02 -0000 (Thu, 02 Oct 2025) EllapsedTime: 49.3 seconds RetCode: 0 Status: OK