Package: TRESS Version: 1.14.0 Command: /home/biocbuild/R/R/bin/R CMD build --keep-empty-dirs --no-resave-data TRESS StartedAt: 2025-10-03 05:25:33 -0000 (Fri, 03 Oct 2025) EndedAt: 2025-10-03 05:25:34 -0000 (Fri, 03 Oct 2025) EllapsedTime: 1.0 seconds RetCode: 0 Status: OK PackageFile: TRESS_1.14.0.tar.gz PackageFileSize: 483.9 KiB