Package: TRESS Version: 1.14.0 Command: /Library/Frameworks/R.framework/Resources/bin/R CMD INSTALL TRESS StartedAt: 2025-04-21 15:19:53 -0400 (Mon, 21 Apr 2025) EndedAt: 2025-04-21 15:20:08 -0400 (Mon, 21 Apr 2025) EllapsedTime: 15.5 seconds RetCode: 0 Status: OK