Package: TRESS Version: 1.14.0 Command: /Library/Frameworks/R.framework/Resources/bin/R CMD INSTALL TRESS StartedAt: 2025-10-13 17:14:27 -0400 (Mon, 13 Oct 2025) EndedAt: 2025-10-13 17:15:08 -0400 (Mon, 13 Oct 2025) EllapsedTime: 40.6 seconds RetCode: 0 Status: OK