Package: TRESS Version: 1.14.0 Command: /Library/Frameworks/R.framework/Resources/bin/R CMD build --keep-empty-dirs --no-resave-data TRESS StartedAt: 2025-10-14 11:25:24 -0400 (Tue, 14 Oct 2025) EndedAt: 2025-10-14 11:25:26 -0400 (Tue, 14 Oct 2025) EllapsedTime: 2.3 seconds RetCode: 0 Status: OK PackageFile: TRESS_1.14.0.tar.gz PackageFileSize: 483.9 KiB