Package: TRESS Version: 1.14.0 Command: rm -rf TRESS.buildbin-libdir && mkdir TRESS.buildbin-libdir && /Users/biocbuild/BBS/utils/build-universal.sh TRESS_1.14.0.tar.gz /Library/Frameworks/R.framework/Resources/bin/R TRESS.buildbin-libdir StartedAt: 2025-10-15 20:55:02 -0400 (Wed, 15 Oct 2025) EndedAt: 2025-10-15 20:55:47 -0400 (Wed, 15 Oct 2025) EllapsedTime: 44.9 seconds RetCode: 0 Status: OK PackageFile: TRESS_1.14.0.tgz PackageFileSize: 685.9 KiB