Package: TRESS Version: 1.16.0 Maintainer: Zhenxing Guo MaintainerEmail: guozhenxing at cuhk.edu.cn git_url: https://git.bioconductor.org/packages/TRESS git_branch: RELEASE_3_22 git_last_commit: b61dd31 git_last_commit_date: 2025-10-29 11:12:49 -0400 (Wed, 29 Oct 2025)