Package: TREG Version: 1.14.0 Command: /home/biocbuild/bbs-3.22-bioc/R/bin/R CMD INSTALL TREG StartedAt: 2025-11-11 15:38:33 -0500 (Tue, 11 Nov 2025) EndedAt: 2025-11-11 15:38:54 -0500 (Tue, 11 Nov 2025) EllapsedTime: 20.9 seconds RetCode: 0 Status: OK