Package: TREG Version: 1.14.0 Command: /home/biocbuild/bbs-3.22-bioc/R/bin/R CMD build --keep-empty-dirs --no-resave-data --md5 TREG StartedAt: 2025-11-11 20:44:48 -0500 (Tue, 11 Nov 2025) EndedAt: 2025-11-11 20:46:27 -0500 (Tue, 11 Nov 2025) EllapsedTime: 99.1 seconds RetCode: 0 Status: OK PackageFile: TREG_1.14.0.tar.gz PackageFileSize: 2.403 MiB