Package: TREG Version: 1.12.0 Command: /home/biocbuild/R/R/bin/R CMD INSTALL TREG StartedAt: 2025-10-13 20:49:15 -0000 (Mon, 13 Oct 2025) EndedAt: 2025-10-13 20:49:45 -0000 (Mon, 13 Oct 2025) EllapsedTime: 30.1 seconds RetCode: 0 Status: OK