Package: TREG Version: 1.12.0 Command: /home/biocbuild/R/R/bin/R CMD build --keep-empty-dirs --no-resave-data TREG StartedAt: 2025-10-14 05:30:17 -0000 (Tue, 14 Oct 2025) EndedAt: 2025-10-14 05:33:09 -0000 (Tue, 14 Oct 2025) EllapsedTime: 172.2 seconds RetCode: 0 Status: OK PackageFile: TREG_1.12.0.tar.gz PackageFileSize: 2.411 MiB