Package: TREG Version: 1.14.0 Command: /Library/Frameworks/R.framework/Resources/bin/R CMD INSTALL TREG StartedAt: 2025-10-30 15:18:58 -0400 (Thu, 30 Oct 2025) EndedAt: 2025-10-30 15:19:06 -0400 (Thu, 30 Oct 2025) EllapsedTime: 8.2 seconds RetCode: 0 Status: OK