Package: TREG Version: 1.14.0 Command: /Library/Frameworks/R.framework/Resources/bin/R CMD build --keep-empty-dirs --no-resave-data TREG StartedAt: 2025-10-30 18:02:16 -0400 (Thu, 30 Oct 2025) EndedAt: 2025-10-30 18:03:05 -0400 (Thu, 30 Oct 2025) EllapsedTime: 48.6 seconds RetCode: 0 Status: OK PackageFile: TREG_1.14.0.tar.gz PackageFileSize: 2.644 MiB