Package: TPP2D Version: 1.26.0 Command: /home/biocbuild/bbs-3.22-bioc/R/bin/R CMD INSTALL TPP2D StartedAt: 2025-11-11 15:13:27 -0500 (Tue, 11 Nov 2025) EndedAt: 2025-11-11 15:13:36 -0500 (Tue, 11 Nov 2025) EllapsedTime: 9.8 seconds RetCode: 0 Status: OK