Package: TPP2D Version: 1.26.0 Command: /home/biocbuild/bbs-3.22-bioc/R/bin/R CMD check --install=check:TPP2D.install-out.txt --library=/home/biocbuild/bbs-3.22-bioc/R/site-library --timings TPP2D_1.26.0.tar.gz StartedAt: 2025-11-12 05:04:41 -0500 (Wed, 12 Nov 2025) EndedAt: 2025-11-12 05:06:51 -0500 (Wed, 12 Nov 2025) EllapsedTime: 130.1 seconds RetCode: 0 Status: OK CheckDir: TPP2D.Rcheck Warnings: 0