Package: TPP2D Version: 1.26.0 Command: /home/biocbuild/bbs-3.22-bioc/R/bin/R CMD build --keep-empty-dirs --no-resave-data --md5 TPP2D StartedAt: 2025-11-11 20:42:46 -0500 (Tue, 11 Nov 2025) EndedAt: 2025-11-11 20:43:20 -0500 (Tue, 11 Nov 2025) EllapsedTime: 33.1 seconds RetCode: 0 Status: OK PackageFile: TPP2D_1.26.0.tar.gz PackageFileSize: 2.302 MiB