Package: TPP2D Version: 1.24.1 Command: /home/biocbuild/R/R/bin/R CMD INSTALL TPP2D StartedAt: 2025-09-25 20:21:09 -0000 (Thu, 25 Sep 2025) EndedAt: 2025-09-25 20:21:19 -0000 (Thu, 25 Sep 2025) EllapsedTime: 9.5 seconds RetCode: 0 Status: OK