Package: TPP2D Version: 1.24.1 Command: /home/biocbuild/R/R/bin/R CMD build --keep-empty-dirs --no-resave-data TPP2D StartedAt: 2025-09-26 06:45:10 -0000 (Fri, 26 Sep 2025) EndedAt: 2025-09-26 06:45:55 -0000 (Fri, 26 Sep 2025) EllapsedTime: 45.0 seconds RetCode: 0 Status: OK PackageFile: TPP2D_1.24.1.tar.gz PackageFileSize: 2.292 MiB