Package: TPP2D Version: 1.24.1 Command: /Library/Frameworks/R.framework/Resources/bin/R CMD INSTALL TPP2D StartedAt: 2025-10-13 15:26:32 -0400 (Mon, 13 Oct 2025) EndedAt: 2025-10-13 15:26:43 -0400 (Mon, 13 Oct 2025) EllapsedTime: 10.8 seconds RetCode: 0 Status: OK