Package: TPP2D Version: 1.24.1 Command: /Library/Frameworks/R.framework/Resources/bin/R CMD build --keep-empty-dirs --no-resave-data TPP2D StartedAt: 2025-10-14 11:13:03 -0400 (Tue, 14 Oct 2025) EndedAt: 2025-10-14 11:13:45 -0400 (Tue, 14 Oct 2025) EllapsedTime: 41.8 seconds RetCode: 0 Status: OK PackageFile: TPP2D_1.24.1.tar.gz PackageFileSize: 2.295 MiB