Package: TPP2D Version: 1.24.1 Command: rm -rf TPP2D.buildbin-libdir && mkdir TPP2D.buildbin-libdir && /Users/biocbuild/BBS/utils/build-universal.sh TPP2D_1.24.1.tar.gz /Library/Frameworks/R.framework/Resources/bin/R TPP2D.buildbin-libdir StartedAt: 2025-10-15 20:52:54 -0400 (Wed, 15 Oct 2025) EndedAt: 2025-10-15 20:53:06 -0400 (Wed, 15 Oct 2025) EllapsedTime: 12.4 seconds RetCode: 0 Status: OK PackageFile: TPP2D_1.24.1.tgz PackageFileSize: 1.887 MiB