Package: TPP2D Version: 1.24.1 Maintainer: Nils Kurzawa MaintainerEmail: nilskurzawa at gmail.com git_url: https://git.bioconductor.org/packages/TPP2D git_branch: RELEASE_3_21 git_last_commit: d2db5e8 git_last_commit_date: 2025-09-18 15:44:47 -0400 (Thu, 18 Sep 2025)