Package: TPP Version: 3.38.0 Command: /Library/Frameworks/R.framework/Resources/bin/R CMD INSTALL TPP StartedAt: 2025-11-10 15:07:11 -0500 (Mon, 10 Nov 2025) EndedAt: 2025-11-10 15:07:17 -0500 (Mon, 10 Nov 2025) EllapsedTime: 5.7 seconds RetCode: 0 Status: OK