Package: TPP Version: 3.38.0 Command: /Library/Frameworks/R.framework/Resources/bin/R CMD build --keep-empty-dirs --no-resave-data TPP StartedAt: 2025-11-10 18:01:49 -0500 (Mon, 10 Nov 2025) EndedAt: 2025-11-10 18:02:30 -0500 (Mon, 10 Nov 2025) EllapsedTime: 41.4 seconds RetCode: 0 Status: OK PackageFile: TPP_3.38.0.tar.gz PackageFileSize: 8.43 MiB