Package: TOP Version: 1.8.0 Command: /home/biocbuild/R/R/bin/R CMD INSTALL TOP StartedAt: 2025-10-13 20:43:49 -0000 (Mon, 13 Oct 2025) EndedAt: 2025-10-13 20:44:39 -0000 (Mon, 13 Oct 2025) EllapsedTime: 49.3 seconds RetCode: 0 Status: OK