Package: TOP Version: 1.8.0 Command: /home/biocbuild/R/R/bin/R CMD build --keep-empty-dirs --no-resave-data TOP StartedAt: 2025-10-14 05:25:59 -0000 (Tue, 14 Oct 2025) EndedAt: 2025-10-14 05:27:46 -0000 (Tue, 14 Oct 2025) EllapsedTime: 106.1 seconds RetCode: 0 Status: OK PackageFile: TOP_1.8.0.tar.gz PackageFileSize: 495.6 KiB