Package: TOP Version: 1.8.0 Command: rm -rf TOP.buildbin-libdir && mkdir TOP.buildbin-libdir && /Users/biocbuild/BBS/utils/build-universal.sh TOP_1.8.0.tar.gz /Library/Frameworks/R.framework/Resources/bin/R TOP.buildbin-libdir StartedAt: 2025-04-21 22:55:28 -0400 (Mon, 21 Apr 2025) EndedAt: 2025-04-21 22:55:42 -0400 (Mon, 21 Apr 2025) EllapsedTime: 14.3 seconds RetCode: 0 Status: OK PackageFile: TOP_1.8.0.tgz PackageFileSize: 540.5 KiB