Package: TOAST Version: 1.24.0 Command: /home/biocbuild/bbs-3.22-bioc/R/bin/R CMD check --install=check:TOAST.install-out.txt --library=/home/biocbuild/bbs-3.22-bioc/R/site-library --timings TOAST_1.24.0.tar.gz StartedAt: 2025-11-21 05:32:01 -0500 (Fri, 21 Nov 2025) EndedAt: 2025-11-21 05:39:08 -0500 (Fri, 21 Nov 2025) EllapsedTime: 427.5 seconds RetCode: 0 Status: OK CheckDir: TOAST.Rcheck Warnings: 0