Package: TOAST Version: 1.24.0 Command: /Library/Frameworks/R.framework/Resources/bin/R CMD build --keep-empty-dirs --no-resave-data TOAST StartedAt: 2025-11-03 19:06:34 -0500 (Mon, 03 Nov 2025) EndedAt: 2025-11-03 19:09:24 -0500 (Mon, 03 Nov 2025) EllapsedTime: 170.1 seconds RetCode: 0 Status: OK PackageFile: TOAST_1.24.0.tar.gz PackageFileSize: 3.623 MiB