Package: TOAST Version: 1.24.0 Command: rm -rf TOAST.buildbin-libdir && mkdir TOAST.buildbin-libdir && /Users/biocbuild/BBS/utils/build-universal.sh TOAST_1.24.0.tar.gz /Library/Frameworks/R.framework/Resources/bin/R TOAST.buildbin-libdir StartedAt: 2025-11-04 02:08:58 -0500 (Tue, 04 Nov 2025) EndedAt: 2025-11-04 02:09:38 -0500 (Tue, 04 Nov 2025) EllapsedTime: 40.2 seconds RetCode: 0 Status: OK PackageFile: TOAST_1.24.0.tgz PackageFileSize: 3.763 MiB