Package: TOAST Version: 1.22.0 Command: /home/biocbuild/R/R/bin/R CMD INSTALL TOAST StartedAt: 2025-10-13 20:30:46 -0000 (Mon, 13 Oct 2025) EndedAt: 2025-10-13 20:31:23 -0000 (Mon, 13 Oct 2025) EllapsedTime: 37.6 seconds RetCode: 0 Status: OK