Package: TMixClust Version: 1.32.0 Command: /home/biocbuild/bbs-3.22-bioc/R/bin/R CMD INSTALL TMixClust StartedAt: 2025-11-11 15:18:17 -0500 (Tue, 11 Nov 2025) EndedAt: 2025-11-11 15:18:22 -0500 (Tue, 11 Nov 2025) EllapsedTime: 5.4 seconds RetCode: 0 Status: OK