Package: TMixClust Version: 1.32.0 Command: /home/biocbuild/bbs-3.22-bioc/R/bin/R CMD build --keep-empty-dirs --no-resave-data --md5 TMixClust StartedAt: 2025-11-11 20:41:39 -0500 (Tue, 11 Nov 2025) EndedAt: 2025-11-11 20:42:09 -0500 (Tue, 11 Nov 2025) EllapsedTime: 30.0 seconds RetCode: 0 Status: OK PackageFile: TMixClust_1.32.0.tar.gz PackageFileSize: 509.7 KiB