Package: TMSig Version: 1.2.0 Command: /home/biocbuild/R/R/bin/R CMD INSTALL TMSig StartedAt: 2025-10-13 20:44:31 -0000 (Mon, 13 Oct 2025) EndedAt: 2025-10-13 20:45:01 -0000 (Mon, 13 Oct 2025) EllapsedTime: 29.7 seconds RetCode: 0 Status: OK