Package: TMSig Version: 1.2.0 Command: /home/biocbuild/R/R/bin/R CMD build --keep-empty-dirs --no-resave-data TMSig StartedAt: 2025-10-14 05:25:24 -0000 (Tue, 14 Oct 2025) EndedAt: 2025-10-14 05:26:33 -0000 (Tue, 14 Oct 2025) EllapsedTime: 69.1 seconds RetCode: 0 Status: OK PackageFile: TMSig_1.2.0.tar.gz PackageFileSize: 3.429 MiB